BEGIN:VCALENDAR
VERSION:2.0
PRODID:-//Fabian D. Schwarz - ECPv6.15.20//NONSGML v1.0//EN
CALSCALE:GREGORIAN
METHOD:PUBLISH
X-ORIGINAL-URL:https://fabiandschwarz.de
X-WR-CALDESC:Veranstaltungen für Fabian D. Schwarz
REFRESH-INTERVAL;VALUE=DURATION:PT1H
X-Robots-Tag:noindex
X-PUBLISHED-TTL:PT1H
BEGIN:VTIMEZONE
TZID:Europe/Berlin
BEGIN:DAYLIGHT
TZOFFSETFROM:+0100
TZOFFSETTO:+0200
TZNAME:CEST
DTSTART:20240331T010000
END:DAYLIGHT
BEGIN:STANDARD
TZOFFSETFROM:+0200
TZOFFSETTO:+0100
TZNAME:CET
DTSTART:20241027T010000
END:STANDARD
BEGIN:DAYLIGHT
TZOFFSETFROM:+0100
TZOFFSETTO:+0200
TZNAME:CEST
DTSTART:20250330T010000
END:DAYLIGHT
BEGIN:STANDARD
TZOFFSETFROM:+0200
TZOFFSETTO:+0100
TZNAME:CET
DTSTART:20251026T010000
END:STANDARD
BEGIN:DAYLIGHT
TZOFFSETFROM:+0100
TZOFFSETTO:+0200
TZNAME:CEST
DTSTART:20260329T010000
END:DAYLIGHT
BEGIN:STANDARD
TZOFFSETFROM:+0200
TZOFFSETTO:+0100
TZNAME:CET
DTSTART:20261025T010000
END:STANDARD
BEGIN:DAYLIGHT
TZOFFSETFROM:+0100
TZOFFSETTO:+0200
TZNAME:CEST
DTSTART:20270328T010000
END:DAYLIGHT
BEGIN:STANDARD
TZOFFSETFROM:+0200
TZOFFSETTO:+0100
TZNAME:CET
DTSTART:20271031T010000
END:STANDARD
END:VTIMEZONE
BEGIN:VEVENT
DTSTART;TZID=Europe/Berlin:20260303T100000
DTEND;TZID=Europe/Berlin:20260304T170000
DTSTAMP:20260420T015533
CREATED:20251006T090654Z
LAST-MODIFIED:20251006T090753Z
UID:2672-1772532000-1772643600@fabiandschwarz.de
SUMMARY:Sprechen mit Wirkung – souverän auftreten\, überzeugend reden
DESCRIPTION:Gelegenheiten zum Reden gibt’s genug – die Frage ist: Wird auch zugehört? In diesem Seminar lernen Sie\, wie Sie mit Stimme\, Körpersprache und klarer Struktur wirklich Eindruck machen – live und vor der Kamera. Denn ob im Vortrag\, im Video-Call oder auf Social Media: Ihre Wirkung entscheidet. Statt Reden von der Stange gibt’s echte Präsenz\, ehrliches Feedback\, Videoanalysen und jede Menge Praxis. Sie erleben\, wie Ihre Worte und Ihr Auftreten sichtbar stärker werden – und nehmen Auftrittslust\, Selbstvertrauen und ein neues Gespür für Ihren Stil mit.
URL:https://fabiandschwarz.de/termin/sprechen-mit-wirkung-souveraen-auftreten-ueberzeugend-reden/
LOCATION:Volkshochschule Reutlingen\, Spendhausstraße 6\, Reutlingen\, 72764\, Germany
CATEGORIES:Coaching,Seminare
ORGANIZER;CN="VHS Reutlingen":MAILTO:info@vhsrt.de
END:VEVENT
BEGIN:VEVENT
DTSTART;TZID=Europe/Berlin:20251025T080000
DTEND;TZID=Europe/Berlin:20251026T170000
DTSTAMP:20260420T015533
CREATED:20250606T074920Z
LAST-MODIFIED:20250606T074920Z
UID:2502-1761379200-1761498000@fabiandschwarz.de
SUMMARY:Humor trifft Glauben!
DESCRIPTION:Möchten Sie Ihren Glauben und spirituelle Themen einmal ganz anders betrachten – kritisch\, humorvoll und kreativ? Dann laden wir Sie herzlich zu unserem Kabarett-Seminar ein! Unter der professionellen Anleitung des Kabarettisten Fabian D. Schwarz entwickeln Sie in zwei inspirierenden Wochenenden Ihre eigene Kabarettnummer – basierend auf Ihren persönlichen Glaubenserfahrungen. Das Highlight: Bei einer öffentlichen Abschlussaufführung bringen Sie Ihr Werk auf die Bühne.
URL:https://fabiandschwarz.de/termin/humor-trifft-glauben/
LOCATION:Haus Edith Stein Ludwigsburg\, Parkstraße 34\, Ludwigsburg\, 71642
CATEGORIES:Seminare
ORGANIZER;CN="KEB Ludwigsburg":MAILTO:info@keb-ludwigsburg.de
END:VEVENT
BEGIN:VEVENT
DTSTART;TZID=Europe/Berlin:20251001T193000
DTEND;TZID=Europe/Berlin:20251001T220000
DTSTAMP:20260420T015533
CREATED:20250605T150243Z
LAST-MODIFIED:20250605T150254Z
UID:2486-1759347000-1759356000@fabiandschwarz.de
SUMMARY:50 Jahre Katholische Erwachsenenbildung Ulm
DESCRIPTION:Zusammen mit Julia Dorn moderiere ich das Jubiläum der KEB Ulm. Musik\, Gespräche\, Feiern. 🙂
URL:https://fabiandschwarz.de/termin/50-jahre-katholische-erwachsenenbildung-ulm/
LOCATION:Stadthaus Ulm\, Münsterplatz 50\, Ulm\, 89073\, Germany
CATEGORIES:Moderation
END:VEVENT
BEGIN:VEVENT
DTSTART;TZID=Europe/Berlin:20250712T100000
DTEND;TZID=Europe/Berlin:20250713T170000
DTSTAMP:20260420T015533
CREATED:20250605T151543Z
LAST-MODIFIED:20250605T151543Z
UID:2493-1752314400-1752426000@fabiandschwarz.de
SUMMARY:Da hilft nur noch die Pointe - WARTELISTE
DESCRIPTION:Mein Dauerbrenner-Seminar beim Landesverband Amateurtheater Baden-Württemberg. In zwei Tagen lernt Ihr Komik-Handwerkszeug\, bekommt Tipps für das Schreiben von Pointen und arbeitet an Eurem Timing. \nACHTUNG: Es gibt eine Warteliste. Das Seminar ist ausgebucht.
URL:https://fabiandschwarz.de/termin/da-hilft-nur-noch-die-pointe-warteliste/
LOCATION:Landesverband Amateurtheater Baden-Württemberg\, Postwiesenstraße 5A\, Stuttgart\, 70327
CATEGORIES:Coaching
ORGANIZER;CN="Landesverband Amateurtheater BW":MAILTO:mail@amateurtheater-bw.de
END:VEVENT
END:VCALENDAR