BEGIN:VCALENDAR
VERSION:2.0
PRODID:-//Fabian D. Schwarz - ECPv6.15.20//NONSGML v1.0//EN
CALSCALE:GREGORIAN
METHOD:PUBLISH
X-WR-CALNAME:Fabian D. Schwarz
X-ORIGINAL-URL:https://fabiandschwarz.de
X-WR-CALDESC:Veranstaltungen für Fabian D. Schwarz
REFRESH-INTERVAL;VALUE=DURATION:PT1H
X-Robots-Tag:noindex
X-PUBLISHED-TTL:PT1H
BEGIN:VTIMEZONE
TZID:Europe/Berlin
BEGIN:DAYLIGHT
TZOFFSETFROM:+0100
TZOFFSETTO:+0200
TZNAME:CEST
DTSTART:20250330T010000
END:DAYLIGHT
BEGIN:STANDARD
TZOFFSETFROM:+0200
TZOFFSETTO:+0100
TZNAME:CET
DTSTART:20251026T010000
END:STANDARD
BEGIN:DAYLIGHT
TZOFFSETFROM:+0100
TZOFFSETTO:+0200
TZNAME:CEST
DTSTART:20260329T010000
END:DAYLIGHT
BEGIN:STANDARD
TZOFFSETFROM:+0200
TZOFFSETTO:+0100
TZNAME:CET
DTSTART:20261025T010000
END:STANDARD
BEGIN:DAYLIGHT
TZOFFSETFROM:+0100
TZOFFSETTO:+0200
TZNAME:CEST
DTSTART:20270328T010000
END:DAYLIGHT
BEGIN:STANDARD
TZOFFSETFROM:+0200
TZOFFSETTO:+0100
TZNAME:CET
DTSTART:20271031T010000
END:STANDARD
END:VTIMEZONE
BEGIN:VEVENT
DTSTART;TZID=Europe/Berlin:20260303T100000
DTEND;TZID=Europe/Berlin:20260304T170000
DTSTAMP:20260420T070629
CREATED:20251006T090654Z
LAST-MODIFIED:20251006T090753Z
UID:2672-1772532000-1772643600@fabiandschwarz.de
SUMMARY:Sprechen mit Wirkung – souverän auftreten\, überzeugend reden
DESCRIPTION:Gelegenheiten zum Reden gibt’s genug – die Frage ist: Wird auch zugehört? In diesem Seminar lernen Sie\, wie Sie mit Stimme\, Körpersprache und klarer Struktur wirklich Eindruck machen – live und vor der Kamera. Denn ob im Vortrag\, im Video-Call oder auf Social Media: Ihre Wirkung entscheidet. Statt Reden von der Stange gibt’s echte Präsenz\, ehrliches Feedback\, Videoanalysen und jede Menge Praxis. Sie erleben\, wie Ihre Worte und Ihr Auftreten sichtbar stärker werden – und nehmen Auftrittslust\, Selbstvertrauen und ein neues Gespür für Ihren Stil mit.
URL:https://fabiandschwarz.de/termin/sprechen-mit-wirkung-souveraen-auftreten-ueberzeugend-reden/
LOCATION:Volkshochschule Reutlingen\, Spendhausstraße 6\, Reutlingen\, 72764\, Germany
CATEGORIES:Coaching,Seminare
ORGANIZER;CN="VHS Reutlingen":MAILTO:info@vhsrt.de
END:VEVENT
END:VCALENDAR